BEGIN:VCALENDAR
VERSION:2.0
PRODID:-//COLLEGIO LUCIANO FONDA - ECPv6.15.13//NONSGML v1.0//EN
CALSCALE:GREGORIAN
METHOD:PUBLISH
X-WR-CALNAME:COLLEGIO LUCIANO FONDA
X-ORIGINAL-URL:https://www.collegiofonda.it
X-WR-CALDESC:Eventi per COLLEGIO LUCIANO FONDA
REFRESH-INTERVAL;VALUE=DURATION:PT1H
X-Robots-Tag:noindex
X-PUBLISHED-TTL:PT1H
BEGIN:VTIMEZONE
TZID:UTC
BEGIN:STANDARD
TZOFFSETFROM:+0000
TZOFFSETTO:+0000
TZNAME:UTC
DTSTART:20230101T000000
END:STANDARD
END:VTIMEZONE
BEGIN:VEVENT
DTSTART;VALUE=DATE:20250311
DTEND;VALUE=DATE:20250312
DTSTAMP:20260421T010722
CREATED:20250306T190127Z
LAST-MODIFIED:20250306T190127Z
UID:53204-1741651200-1741737599@www.collegiofonda.it
SUMMARY:Incertezza della conoscenza e conoscenza dell'incertezza - Prof. Francesco Pauli (UniTS)
DESCRIPTION:Dott. Ruggero Rollini				\n				\n				\n				\n							\n			\n		\n						\n				\n				\n						\n					\n			\n							\n		\n					\n		\n					\n		\n					\n		\n				\n						\n					\n			\n						\n				\n																														\n				\n				\n				\n									 Orario: 18:30 – 20:30  Luogo: Sala Cappella – ex Ospedale Militare\, via Fabio Severo\, 40. Trieste Seminar in Italian Language 								\n				\n					\n		\n					\n		\n				\n						\n					\n			\n						\n				\n							\n			\n		\n						\n				\n				\n				\n									Iscrizione al pubblico
URL:https://www.collegiofonda.it/evento/incertezza-della-conoscenza-e-conoscenza-dellincertezza-prof-francesco-pauli-units/
LOCATION:Sala Conferenze\, via Fabio Severo 40\, Trieste\, Italy
CATEGORIES:Eventi
ATTACH;FMTTYPE=image/jpeg:https://www.collegiofonda.it/wp-content/uploads/2025/03/Locandina-Pauli-scaled.jpg
END:VEVENT
BEGIN:VEVENT
DTSTART;VALUE=DATE:20250307
DTEND;VALUE=DATE:20250531
DTSTAMP:20260421T010722
CREATED:20250312T194013Z
LAST-MODIFIED:20250513T093658Z
UID:53250-1741305600-1748649599@www.collegiofonda.it
SUMMARY:English Course Module 6: English for the Job Market
DESCRIPTION:Dott. Ruggero Rollini				\n				\n				\n				\n							\n			\n		\n						\n				\n				\n						\n					\n			\n							\n		\n					\n		\n					\n		\n					\n		\n				\n						\n					\n			\n						\n				\n																														\n				\n				\n				\n									 Orario: 18:30 – 20:30  Luogo: Sala Cappella – ex Ospedale Militare\, via Fabio Severo\, 40. Trieste Seminar in Italian Language 								\n				\n					\n		\n					\n		\n				\n						\n					\n			\n						\n				\n							\n			\n		\n						\n				\n				\n				\n									Iscrizione al pubblico
URL:https://www.collegiofonda.it/evento/english-course-module-6-english-for-the-job-market/
LOCATION:Sala Pietra\, via Fabio Severo\, 40
CATEGORIES:Corso Breve
ATTACH;FMTTYPE=image/jpeg:https://www.collegiofonda.it/wp-content/uploads/2025/03/Locandina-English-for-the-Job-market-scaled.jpg
END:VEVENT
BEGIN:VEVENT
DTSTART;VALUE=DATE:20250306
DTEND;VALUE=DATE:20250410
DTSTAMP:20260421T010722
CREATED:20250312T190754Z
LAST-MODIFIED:20250312T190815Z
UID:53231-1741219200-1744243199@www.collegiofonda.it
SUMMARY:Grafica e AI
DESCRIPTION:Dott. Ruggero Rollini				\n				\n				\n				\n							\n			\n		\n						\n				\n				\n						\n					\n			\n							\n		\n					\n		\n					\n		\n					\n		\n				\n						\n					\n			\n						\n				\n																														\n				\n				\n				\n									 Orario: 18:30 – 20:30  Luogo: Sala Cappella – ex Ospedale Militare\, via Fabio Severo\, 40. Trieste Seminar in Italian Language 								\n				\n					\n		\n					\n		\n				\n						\n					\n			\n						\n				\n							\n			\n		\n						\n				\n				\n				\n									Iscrizione al pubblico
URL:https://www.collegiofonda.it/evento/grafica-e-ai/
LOCATION:Sala Pietra\, via Fabio Severo\, 40
CATEGORIES:Corso Breve
ATTACH;FMTTYPE=image/jpeg:https://www.collegiofonda.it/wp-content/uploads/2025/03/Locandina-Grafica-scaled.jpg
END:VEVENT
BEGIN:VEVENT
DTSTART;VALUE=DATE:20250207
DTEND;VALUE=DATE:20250208
DTSTAMP:20260421T010722
CREATED:20250130T144055Z
LAST-MODIFIED:20250131T100455Z
UID:52896-1738886400-1738972799@www.collegiofonda.it
SUMMARY:FONDA OPENS – Anno Accademico 2024 / 2025
DESCRIPTION:Dott. Ruggero Rollini				\n				\n				\n				\n							\n			\n		\n						\n				\n				\n						\n					\n			\n							\n		\n					\n		\n					\n		\n					\n		\n				\n						\n					\n			\n						\n				\n																														\n				\n				\n				\n									 Orario: 18:30 – 20:30  Luogo: Sala Cappella – ex Ospedale Militare\, via Fabio Severo\, 40. Trieste Seminar in Italian Language 								\n				\n					\n		\n					\n		\n				\n						\n					\n			\n						\n				\n							\n			\n		\n						\n				\n				\n				\n									Iscrizione al pubblico
URL:https://www.collegiofonda.it/evento/fonda-opens-anno-accademico-2024-2025/
LOCATION:Università degli Studi di Trieste\, Via Alfonso Valerio 12/2\, Trieste\, Italy
ATTACH;FMTTYPE=image/png:https://www.collegiofonda.it/wp-content/uploads/2025/01/FONDA-OPENS-Programma-24-25.png
END:VEVENT
BEGIN:VEVENT
DTSTART;VALUE=DATE:20241217
DTEND;VALUE=DATE:20241218
DTSTAMP:20260421T010722
CREATED:20241209T103827Z
LAST-MODIFIED:20241213T104048Z
UID:52849-1734393600-1734479999@www.collegiofonda.it
SUMMARY:Incertezze negli scenari di cambiamento climatico
DESCRIPTION:Dott. Ruggero Rollini				\n				\n				\n				\n							\n			\n		\n						\n				\n				\n						\n					\n			\n							\n		\n					\n		\n					\n		\n					\n		\n				\n						\n					\n			\n						\n				\n																														\n				\n				\n				\n									 Orario: 18:30 – 20:30  Luogo: Sala Cappella – ex Ospedale Militare\, via Fabio Severo\, 40. Trieste Seminar in Italian Language 								\n				\n					\n		\n					\n		\n				\n						\n					\n			\n						\n				\n							\n			\n		\n						\n				\n				\n				\n									Iscrizione al pubblico
URL:https://www.collegiofonda.it/evento/incertezze-negli-scenari-di-cambiamento-climatico/
LOCATION:Sala Conferenze\, via Fabio Severo 40\, Trieste\, Italy
ATTACH;FMTTYPE=image/jpeg:https://www.collegiofonda.it/wp-content/uploads/2024/12/A3_Collegio-Fonda_17-dicembre-scaled.jpg
END:VEVENT
BEGIN:VEVENT
DTSTART;VALUE=DATE:20241128
DTEND;VALUE=DATE:20241129
DTSTAMP:20260421T010722
CREATED:20241119T093720Z
LAST-MODIFIED:20241119T093742Z
UID:52844-1732752000-1732838399@www.collegiofonda.it
SUMMARY:Il principio di indeterminazione nella fisica dei quanti
DESCRIPTION:Dott. Ruggero Rollini				\n				\n				\n				\n							\n			\n		\n						\n				\n				\n						\n					\n			\n							\n		\n					\n		\n					\n		\n					\n		\n				\n						\n					\n			\n						\n				\n																														\n				\n				\n				\n									 Orario: 18:30 – 20:30  Luogo: Sala Cappella – ex Ospedale Militare\, via Fabio Severo\, 40. Trieste Seminar in Italian Language 								\n				\n					\n		\n					\n		\n				\n						\n					\n			\n						\n				\n							\n			\n		\n						\n				\n				\n				\n									Iscrizione al pubblico
URL:https://www.collegiofonda.it/evento/il-principio-di-indeterminazione-nella-fisica-dei-quanti/
LOCATION:Sala Conferenze\, via Fabio Severo 40\, Trieste\, Italy
ATTACH;FMTTYPE=image/jpeg:https://www.collegiofonda.it/wp-content/uploads/2024/11/A3_Collegio-Fonda_28-novembre-scaled.jpg
END:VEVENT
BEGIN:VEVENT
DTSTART;VALUE=DATE:20241125
DTEND;VALUE=DATE:20241126
DTSTAMP:20260421T010722
CREATED:20241119T092727Z
LAST-MODIFIED:20241119T092841Z
UID:52840-1732492800-1732579199@www.collegiofonda.it
SUMMARY:A folgore et tempestate\, a peste\, fame et bello
DESCRIPTION:Dott. Ruggero Rollini				\n				\n				\n				\n							\n			\n		\n						\n				\n				\n						\n					\n			\n							\n		\n					\n		\n					\n		\n					\n		\n				\n						\n					\n			\n						\n				\n																														\n				\n				\n				\n									 Orario: 18:30 – 20:30  Luogo: Sala Cappella – ex Ospedale Militare\, via Fabio Severo\, 40. Trieste Seminar in Italian Language 								\n				\n					\n		\n					\n		\n				\n						\n					\n			\n						\n				\n							\n			\n		\n						\n				\n				\n				\n									Iscrizione al pubblico
URL:https://www.collegiofonda.it/evento/a-folgore-et-tempestate-a-peste-fame-et-bello/
LOCATION:Sala Conferenze\, via Fabio Severo 40\, Trieste\, Italy
ATTACH;FMTTYPE=image/jpeg:https://www.collegiofonda.it/wp-content/uploads/2024/11/A3_Collegio-Fonda_25-novembre-scaled.jpg
END:VEVENT
BEGIN:VEVENT
DTSTART;VALUE=DATE:20241107
DTEND;VALUE=DATE:20241108
DTSTAMP:20260421T010722
CREATED:20241009T151525Z
LAST-MODIFIED:20241105T094831Z
UID:52742-1730937600-1731023999@www.collegiofonda.it
SUMMARY:La Medicina Personalizzata nell‘era dell’Intelligenza Artificiale
DESCRIPTION:Dott. Ruggero Rollini				\n				\n				\n				\n							\n			\n		\n						\n				\n				\n						\n					\n			\n							\n		\n					\n		\n					\n		\n					\n		\n				\n						\n					\n			\n						\n				\n																														\n				\n				\n				\n									 Orario: 18:30 – 20:30  Luogo: Sala Cappella – ex Ospedale Militare\, via Fabio Severo\, 40. Trieste Seminar in Italian Language 								\n				\n					\n		\n					\n		\n				\n						\n					\n			\n						\n				\n							\n			\n		\n						\n				\n				\n				\n									Iscrizione al pubblico
URL:https://www.collegiofonda.it/evento/test-articolo/
LOCATION:Sala Conferenze\, via Fabio Severo 40\, Trieste\, Italy
END:VEVENT
BEGIN:VEVENT
DTSTART;TZID=UTC:20241029T183000
DTEND;TZID=UTC:20241029T203000
DTSTAMP:20260421T010722
CREATED:20241025T083043Z
LAST-MODIFIED:20241025T085522Z
UID:52812-1730226600-1730233800@www.collegiofonda.it
SUMMARY:Lancio Libro - Migrazioni verticali. La montagna ci salverà?
DESCRIPTION:Dott. Ruggero Rollini				\n				\n				\n				\n							\n			\n		\n						\n				\n				\n						\n					\n			\n							\n		\n					\n		\n					\n		\n					\n		\n				\n						\n					\n			\n						\n				\n																														\n				\n				\n				\n									 Orario: 18:30 – 20:30  Luogo: Sala Cappella – ex Ospedale Militare\, via Fabio Severo\, 40. Trieste Seminar in Italian Language 								\n				\n					\n		\n					\n		\n				\n						\n					\n			\n						\n				\n							\n			\n		\n						\n				\n				\n				\n									Iscrizione al pubblico
URL:https://www.collegiofonda.it/evento/lancio-libro-migrazione-verticale-migrazioni-verticali-la-montagna-ci-salvera/
LOCATION:sala Bazlen del palazzo Gopcevich\, Via Gioacchino Rossini\, 4\,\, Trieste\, Italy
ATTACH;FMTTYPE=image/jpeg:https://www.collegiofonda.it/wp-content/uploads/2024/10/Locandina-Migrazione-Verticale-Trieste-scaled.jpg
END:VEVENT
BEGIN:VEVENT
DTSTART;VALUE=DATE:20241028
DTEND;VALUE=DATE:20241029
DTSTAMP:20260421T010722
CREATED:20241021T085132Z
LAST-MODIFIED:20241021T091715Z
UID:52803-1730073600-1730159999@www.collegiofonda.it
SUMMARY:Mathematizing Uncertainty and Irrationality
DESCRIPTION:Dott. Ruggero Rollini				\n				\n				\n				\n							\n			\n		\n						\n				\n				\n						\n					\n			\n							\n		\n					\n		\n					\n		\n					\n		\n				\n						\n					\n			\n						\n				\n																														\n				\n				\n				\n									 Orario: 18:30 – 20:30  Luogo: Sala Cappella – ex Ospedale Militare\, via Fabio Severo\, 40. Trieste Seminar in Italian Language 								\n				\n					\n		\n					\n		\n				\n						\n					\n			\n						\n				\n							\n			\n		\n						\n				\n				\n				\n									Iscrizione al pubblico
URL:https://www.collegiofonda.it/evento/mathematizing-uncertainty-and-irrationality/
LOCATION:Sala Cappella – ex Ospedale Militare\, via Fabio Severo\, 40
ATTACH;FMTTYPE=image/png:https://www.collegiofonda.it/wp-content/uploads/2024/10/Immagine-Onofrio.png
END:VEVENT
BEGIN:VEVENT
DTSTART;TZID=UTC:20241018T173000
DTEND;TZID=UTC:20241018T193000
DTSTAMP:20260421T010722
CREATED:20241014T104703Z
LAST-MODIFIED:20241014T104703Z
UID:52776-1729272600-1729279800@www.collegiofonda.it
SUMMARY:Advanced English Course - Module 5: English for research
DESCRIPTION:Dott. Ruggero Rollini				\n				\n				\n				\n							\n			\n		\n						\n				\n				\n						\n					\n			\n							\n		\n					\n		\n					\n		\n					\n		\n				\n						\n					\n			\n						\n				\n																														\n				\n				\n				\n									 Orario: 18:30 – 20:30  Luogo: Sala Cappella – ex Ospedale Militare\, via Fabio Severo\, 40. Trieste Seminar in Italian Language 								\n				\n					\n		\n					\n		\n				\n						\n					\n			\n						\n				\n							\n			\n		\n						\n				\n				\n				\n									Iscrizione al pubblico
URL:https://www.collegiofonda.it/evento/advanced-english-course-module-5-english-for-research/
LOCATION:Sala Pietra\, via Fabio Severo\, 40
ATTACH;FMTTYPE=image/jpeg:https://www.collegiofonda.it/wp-content/uploads/2024/10/english-4729683_1280.jpg
END:VEVENT
BEGIN:VEVENT
DTSTART;VALUE=DATE:20241017
DTEND;VALUE=DATE:20241018
DTSTAMP:20260421T010722
CREATED:20241011T113643Z
LAST-MODIFIED:20241011T113649Z
UID:52767-1729123200-1729209599@www.collegiofonda.it
SUMMARY:La popolazione italiana: dalle preoccupazioni del presente alle incertezze del futuro.
DESCRIPTION:Dott. Ruggero Rollini				\n				\n				\n				\n							\n			\n		\n						\n				\n				\n						\n					\n			\n							\n		\n					\n		\n					\n		\n					\n		\n				\n						\n					\n			\n						\n				\n																														\n				\n				\n				\n									 Orario: 18:30 – 20:30  Luogo: Sala Cappella – ex Ospedale Militare\, via Fabio Severo\, 40. Trieste Seminar in Italian Language 								\n				\n					\n		\n					\n		\n				\n						\n					\n			\n						\n				\n							\n			\n		\n						\n				\n				\n				\n									Iscrizione al pubblico
URL:https://www.collegiofonda.it/evento/la-popolazione-italiana-dalle-preoccupazioni-del-presente-alle-incertezze-del-futuro/
LOCATION:Sala Conferenze\, via Fabio Severo 40\, Trieste\, Italy
ATTACH;FMTTYPE=image/jpeg:https://www.collegiofonda.it/wp-content/uploads/2024/10/DIVULGANDO_29401-esc-scaled.jpg
END:VEVENT
BEGIN:VEVENT
DTSTART;TZID=UTC:20241015T183000
DTEND;TZID=UTC:20241015T203000
DTSTAMP:20260421T010722
CREATED:20241011T103756Z
LAST-MODIFIED:20241011T103756Z
UID:52782-1729017000-1729024200@www.collegiofonda.it
SUMMARY:Tecniche di Progettazione: dall’idea progetto alla sua realizzazione
DESCRIPTION:Dott. Ruggero Rollini				\n				\n				\n				\n							\n			\n		\n						\n				\n				\n						\n					\n			\n							\n		\n					\n		\n					\n		\n					\n		\n				\n						\n					\n			\n						\n				\n																														\n				\n				\n				\n									 Orario: 18:30 – 20:30  Luogo: Sala Cappella – ex Ospedale Militare\, via Fabio Severo\, 40. Trieste Seminar in Italian Language 								\n				\n					\n		\n					\n		\n				\n						\n					\n			\n						\n				\n							\n			\n		\n						\n				\n				\n				\n									Iscrizione al pubblico
URL:https://www.collegiofonda.it/evento/tecniche-di-progettazione-dallidea-progetto-alla-sua-realizzazione/
LOCATION:Sala Cappella – ex Ospedale Militare\, via Fabio Severo\, 40
CATEGORIES:Seminari
ATTACH;FMTTYPE=image/webp:https://www.collegiofonda.it/wp-content/uploads/2024/10/word-cloud-679933_1280-1.webp
END:VEVENT
END:VCALENDAR