BEGIN:VCALENDAR
VERSION:2.0
PRODID:-//COLLEGIO LUCIANO FONDA - ECPv6.15.13//NONSGML v1.0//EN
CALSCALE:GREGORIAN
METHOD:PUBLISH
X-ORIGINAL-URL:https://www.collegiofonda.it
X-WR-CALDESC:Eventi per COLLEGIO LUCIANO FONDA
REFRESH-INTERVAL;VALUE=DURATION:PT1H
X-Robots-Tag:noindex
X-PUBLISHED-TTL:PT1H
BEGIN:VTIMEZONE
TZID:UTC
BEGIN:STANDARD
TZOFFSETFROM:+0000
TZOFFSETTO:+0000
TZNAME:UTC
DTSTART:20250101T000000
END:STANDARD
END:VTIMEZONE
BEGIN:VEVENT
DTSTART;VALUE=DATE:20260427
DTEND;VALUE=DATE:20260428
DTSTAMP:20260421T051432
CREATED:20260401T095353Z
LAST-MODIFIED:20260401T114349Z
UID:55562-1777248000-1777334399@www.collegiofonda.it
SUMMARY:War on Civilians: Second World War\, total war and the Italian experience (1940-45)
DESCRIPTION:Dott. Ruggero Rollini				\n				\n				\n				\n							\n			\n		\n						\n				\n				\n						\n					\n			\n							\n		\n					\n		\n					\n		\n					\n		\n				\n						\n					\n			\n						\n				\n																														\n				\n				\n				\n									 Orario: 18:30 – 20:30  Luogo: Sala Cappella – ex Ospedale Militare\, via Fabio Severo\, 40. Trieste Seminar in Italian Language 								\n				\n					\n		\n					\n		\n				\n						\n					\n			\n						\n				\n							\n			\n		\n						\n				\n				\n				\n									Iscrizione al pubblico
URL:https://www.collegiofonda.it/evento/war-on-civilians-second-world-war-total-war-and-the-italian-experience-1940-45/
LOCATION:Sala Conferenze\, via Fabio Severo 40\, Trieste\, Italy
CATEGORIES:Eventi,Seminari
ATTACH;FMTTYPE=image/jpeg:https://www.collegiofonda.it/wp-content/uploads/2026/04/Locandina-De-Ninno-1.jpg
END:VEVENT
END:VCALENDAR