BEGIN:VCALENDAR
VERSION:2.0
PRODID:-//COLLEGIO LUCIANO FONDA - ECPv6.15.13//NONSGML v1.0//EN
CALSCALE:GREGORIAN
METHOD:PUBLISH
X-WR-CALNAME:COLLEGIO LUCIANO FONDA
X-ORIGINAL-URL:https://www.collegiofonda.it
X-WR-CALDESC:Eventi per COLLEGIO LUCIANO FONDA
REFRESH-INTERVAL;VALUE=DURATION:PT1H
X-Robots-Tag:noindex
X-PUBLISHED-TTL:PT1H
BEGIN:VTIMEZONE
TZID:UTC
BEGIN:STANDARD
TZOFFSETFROM:+0000
TZOFFSETTO:+0000
TZNAME:UTC
DTSTART:20230101T000000
END:STANDARD
END:VTIMEZONE
BEGIN:VEVENT
DTSTART;TZID=UTC:20241015T183000
DTEND;TZID=UTC:20241015T203000
DTSTAMP:20260421T051532
CREATED:20241011T103756Z
LAST-MODIFIED:20241011T103756Z
UID:52782-1729017000-1729024200@www.collegiofonda.it
SUMMARY:Tecniche di Progettazione: dall’idea progetto alla sua realizzazione
DESCRIPTION:Prof. Anna Maria Csaki\, UniTS (CLA)				\n				\n				\n				\n							\n			\n		\n						\n				\n				\n						\n					\n			\n							\n		\n					\n		\n					\n		\n					\n		\n				\n						\n					\n			\n						\n				\n									 Time: 17:40 – 19:40 Place: Sala Pietra – ex Ospedale Militare\, via Fabio Severo\, 40. Trieste Lesson dates: Friday\, March 7\, 14\, 21\, and 28; April 4; and May 16\, 23\, and 30\, 2025. Course in English language 								\n				\n				\n				\n							\n			\n		\n						\n				\n					\n		\n					\n		\n				\n						\n					\n			\n						\n				\n									Program Email English and netiquette Language skills for the job market: writing a CVpreparing for an interview								\n				\n					\n		\n					\n		\n				\n						\n					\n			\n						\n				\n							\n			\n		\n						\n				\n				\n				\n									Click here for the registration reserved for Collegio Fonda students.
URL:https://www.collegiofonda.it/evento/tecniche-di-progettazione-dallidea-progetto-alla-sua-realizzazione/
LOCATION:Sala Cappella – ex Ospedale Militare\, via Fabio Severo\, 40
CATEGORIES:Seminari
ATTACH;FMTTYPE=image/webp:https://www.collegiofonda.it/wp-content/uploads/2024/10/word-cloud-679933_1280-1.webp
END:VEVENT
END:VCALENDAR