BEGIN:VCALENDAR
VERSION:2.0
PRODID:-//COLLEGIO LUCIANO FONDA - ECPv6.15.13//NONSGML v1.0//EN
CALSCALE:GREGORIAN
METHOD:PUBLISH
X-ORIGINAL-URL:https://www.collegiofonda.it
X-WR-CALDESC:Eventi per COLLEGIO LUCIANO FONDA
REFRESH-INTERVAL;VALUE=DURATION:PT1H
X-Robots-Tag:noindex
X-PUBLISHED-TTL:PT1H
BEGIN:VTIMEZONE
TZID:UTC
BEGIN:STANDARD
TZOFFSETFROM:+0000
TZOFFSETTO:+0000
TZNAME:UTC
DTSTART:20250101T000000
END:STANDARD
END:VTIMEZONE
BEGIN:VEVENT
DTSTART;VALUE=DATE:20260310
DTEND;VALUE=DATE:20260311
DTSTAMP:20260420T084037
CREATED:20260306T094322Z
LAST-MODIFIED:20260306T103208Z
UID:55469-1773100800-1773187199@www.collegiofonda.it
SUMMARY:The journey of the Somali language\, from orality to literacy\, multiple media\, international science and IT
DESCRIPTION:Fonda Opens 2025-2026				\n				\n				\n				\n							\n			\n		\n						\n				\n					\n		\n					\n		\n				\n						\n					\n			\n						\n						\n					\n			\n						\n				\n									24 aprile 2026    ore 17:00 Università degli Studi di Trieste Edificio H3 – Aula Magna 								\n				\n				\n				\n							\n			\n		\n						\n				\n					\n		\n					\n		\n				\n						\n					\n			\n						\n				\n									Fonda Opens è la cerimonia di apertura dell’Anno Accademico 2025/26 del Collegio di Merito Luciano Fonda. Il momento centrale dell’evento sarà la Lectio Magistralis “Intelligenza artificiale e cura delle malattie ” di Riccardo Sabatini\, scienziato e imprenditore\, esperto di AI\, genomica e biologia programmabile. Dalla EPFL alla Silicon Valley. A seguire\, verrà presentato un progetto realizzato dagli allievi del Collegio\, selezionato per la sua coerenza con il tema della Lectio. La cerimonia si concluderà con la consegna dei diplomi agli studenti che hanno completato il loro percorso accademico. 								\n				\n				\n				\n							\n			\n		\n						\n				\n				\n				\n									Riccardo Sabatini è uno scienziato e imprenditore di fama internazionale\, esperto in modellistica numerica\, genomica computazionale   e  intelligenza  artificiale. Ha  lavorato presso prestigiosi centri di ricerca internazionali\, tra cui EPFL e Human Longevity nella Silicon Valley. È attivo nello sviluppo di progetti nel campo del deep tech e si occupa di biologia programmabile e tecnologie avanzate per la salute.
URL:https://www.collegiofonda.it/evento/the-journey-of-the-somali-language-from-orality-to-literacy-multiple-media-international-science-and-it/
LOCATION:Sala Conferenze\, via Fabio Severo 40\, Trieste\, Italy
CATEGORIES:Eventi,Seminari
ATTACH;FMTTYPE=image/jpeg:https://www.collegiofonda.it/wp-content/uploads/2026/03/Locandina-Banti-1-scaled.jpg
END:VEVENT
BEGIN:VEVENT
DTSTART;VALUE=DATE:20260313
DTEND;VALUE=DATE:20260315
DTSTAMP:20260420T084037
CREATED:20260306T105827Z
LAST-MODIFIED:20260306T110136Z
UID:55487-1773360000-1773532799@www.collegiofonda.it
SUMMARY:INTRODUCTION TO GLOBAL HEALTH
DESCRIPTION:Fonda Opens 2025-2026				\n				\n				\n				\n							\n			\n		\n						\n				\n					\n		\n					\n		\n				\n						\n					\n			\n						\n						\n					\n			\n						\n				\n									24 aprile 2026    ore 17:00 Università degli Studi di Trieste Edificio H3 – Aula Magna 								\n				\n				\n				\n							\n			\n		\n						\n				\n					\n		\n					\n		\n				\n						\n					\n			\n						\n				\n									Fonda Opens è la cerimonia di apertura dell’Anno Accademico 2025/26 del Collegio di Merito Luciano Fonda. Il momento centrale dell’evento sarà la Lectio Magistralis “Intelligenza artificiale e cura delle malattie ” di Riccardo Sabatini\, scienziato e imprenditore\, esperto di AI\, genomica e biologia programmabile. Dalla EPFL alla Silicon Valley. A seguire\, verrà presentato un progetto realizzato dagli allievi del Collegio\, selezionato per la sua coerenza con il tema della Lectio. La cerimonia si concluderà con la consegna dei diplomi agli studenti che hanno completato il loro percorso accademico. 								\n				\n				\n				\n							\n			\n		\n						\n				\n				\n				\n									Riccardo Sabatini è uno scienziato e imprenditore di fama internazionale\, esperto in modellistica numerica\, genomica computazionale   e  intelligenza  artificiale. Ha  lavorato presso prestigiosi centri di ricerca internazionali\, tra cui EPFL e Human Longevity nella Silicon Valley. È attivo nello sviluppo di progetti nel campo del deep tech e si occupa di biologia programmabile e tecnologie avanzate per la salute.
URL:https://www.collegiofonda.it/evento/introduction-to-global-health/
LOCATION:Sala Conferenze\, via Fabio Severo 40\, Trieste\, Italy
CATEGORIES:Eventi,Seminari
ATTACH;FMTTYPE=image/jpeg:https://www.collegiofonda.it/wp-content/uploads/2026/03/Locandina-Parigi.jpg
END:VEVENT
BEGIN:VEVENT
DTSTART;VALUE=DATE:20260323
DTEND;VALUE=DATE:20260324
DTSTAMP:20260420T084037
CREATED:20260323T105445Z
LAST-MODIFIED:20260323T110535Z
UID:55530-1774224000-1774310399@www.collegiofonda.it
SUMMARY:Incontro con il Maestro Giulio Prandi
DESCRIPTION:Fonda Opens 2025-2026				\n				\n				\n				\n							\n			\n		\n						\n				\n					\n		\n					\n		\n				\n						\n					\n			\n						\n						\n					\n			\n						\n				\n									24 aprile 2026    ore 17:00 Università degli Studi di Trieste Edificio H3 – Aula Magna 								\n				\n				\n				\n							\n			\n		\n						\n				\n					\n		\n					\n		\n				\n						\n					\n			\n						\n				\n									Fonda Opens è la cerimonia di apertura dell’Anno Accademico 2025/26 del Collegio di Merito Luciano Fonda. Il momento centrale dell’evento sarà la Lectio Magistralis “Intelligenza artificiale e cura delle malattie ” di Riccardo Sabatini\, scienziato e imprenditore\, esperto di AI\, genomica e biologia programmabile. Dalla EPFL alla Silicon Valley. A seguire\, verrà presentato un progetto realizzato dagli allievi del Collegio\, selezionato per la sua coerenza con il tema della Lectio. La cerimonia si concluderà con la consegna dei diplomi agli studenti che hanno completato il loro percorso accademico. 								\n				\n				\n				\n							\n			\n		\n						\n				\n				\n				\n									Riccardo Sabatini è uno scienziato e imprenditore di fama internazionale\, esperto in modellistica numerica\, genomica computazionale   e  intelligenza  artificiale. Ha  lavorato presso prestigiosi centri di ricerca internazionali\, tra cui EPFL e Human Longevity nella Silicon Valley. È attivo nello sviluppo di progetti nel campo del deep tech e si occupa di biologia programmabile e tecnologie avanzate per la salute.
URL:https://www.collegiofonda.it/evento/incontro-con-il-maestro-giulio-prandi/
LOCATION:Sala Conferenze\, via Fabio Severo 40\, Trieste\, Italy
CATEGORIES:Eventi,Seminari
ATTACH;FMTTYPE=image/jpeg:https://www.collegiofonda.it/wp-content/uploads/2026/03/Locandina-Maestro-Prandi.jpg
END:VEVENT
BEGIN:VEVENT
DTSTART;VALUE=DATE:20260331
DTEND;VALUE=DATE:20260401
DTSTAMP:20260420T084037
CREATED:20260306T100356Z
LAST-MODIFIED:20260306T100543Z
UID:55478-1774915200-1775001599@www.collegiofonda.it
SUMMARY:IL BASSO OSTINATO\, ovvero una musica per sempre.
DESCRIPTION:Fonda Opens 2025-2026				\n				\n				\n				\n							\n			\n		\n						\n				\n					\n		\n					\n		\n				\n						\n					\n			\n						\n						\n					\n			\n						\n				\n									24 aprile 2026    ore 17:00 Università degli Studi di Trieste Edificio H3 – Aula Magna 								\n				\n				\n				\n							\n			\n		\n						\n				\n					\n		\n					\n		\n				\n						\n					\n			\n						\n				\n									Fonda Opens è la cerimonia di apertura dell’Anno Accademico 2025/26 del Collegio di Merito Luciano Fonda. Il momento centrale dell’evento sarà la Lectio Magistralis “Intelligenza artificiale e cura delle malattie ” di Riccardo Sabatini\, scienziato e imprenditore\, esperto di AI\, genomica e biologia programmabile. Dalla EPFL alla Silicon Valley. A seguire\, verrà presentato un progetto realizzato dagli allievi del Collegio\, selezionato per la sua coerenza con il tema della Lectio. La cerimonia si concluderà con la consegna dei diplomi agli studenti che hanno completato il loro percorso accademico. 								\n				\n				\n				\n							\n			\n		\n						\n				\n				\n				\n									Riccardo Sabatini è uno scienziato e imprenditore di fama internazionale\, esperto in modellistica numerica\, genomica computazionale   e  intelligenza  artificiale. Ha  lavorato presso prestigiosi centri di ricerca internazionali\, tra cui EPFL e Human Longevity nella Silicon Valley. È attivo nello sviluppo di progetti nel campo del deep tech e si occupa di biologia programmabile e tecnologie avanzate per la salute.
URL:https://www.collegiofonda.it/evento/il-basso-ostinato-ovvero-una-musica-per-sempre/
LOCATION:Sala Conferenze\, via Fabio Severo 40\, Trieste\, Italy
CATEGORIES:Eventi,Seminari
ATTACH;FMTTYPE=image/jpeg:https://www.collegiofonda.it/wp-content/uploads/2026/03/Locandina-Paola-Erdas-scaled.jpg
END:VEVENT
END:VCALENDAR